BEGIN:VCALENDAR
VERSION:2.0
PRODID:-//Instituto Bolero México - ECPv6.15.20//NONSGML v1.0//EN
CALSCALE:GREGORIAN
METHOD:PUBLISH
X-ORIGINAL-URL:https://boleromx.org
X-WR-CALDESC:Eventos para Instituto Bolero México
REFRESH-INTERVAL;VALUE=DURATION:PT1H
X-Robots-Tag:noindex
X-PUBLISHED-TTL:PT1H
BEGIN:VTIMEZONE
TZID:UTC
BEGIN:STANDARD
TZOFFSETFROM:+0000
TZOFFSETTO:+0000
TZNAME:UTC
DTSTART:20250101T000000
END:STANDARD
END:VTIMEZONE
BEGIN:VEVENT
DTSTART;TZID=UTC:20260304T200000
DTEND;TZID=UTC:20260304T231200
DTSTAMP:20260421T141445
CREATED:20260305T231251Z
LAST-MODIFIED:20260306T003649Z
UID:22355-1772654400-1772665920@boleromx.org
SUMMARY:Museo de la canción Yucateca
DESCRIPTION:MIÉRCOLES DE TROVAEn el marco del Día del Trovador el Museo de la Canción Yucateca presenta la tercera edición del CONCURSO “Interpretando al compositor Armando Rodríguez” El concurso tendrá 12 talentosos intérpretes\, que estarán acompañados por el espectacular grupo Yahal Kab y el reconocido trovador Ricardo Jiménez.Conduce Isis amor destacada comunicadora\, conductora de televisión y locutoraEste concurso impulsa la difusión del legado del compositor Armando Rodríguez Sosa en las nuevas generaciones.\n Entrada general: $100 Informes y venta de boletos 999 923 7224
URL:https://boleromx.org/evento/museo-de-la-cancion-yucateca/
LOCATION:Museo de la Canción Yucateca A.C\, Calle 57. 464 por calle 48 Barrio de\, Parque de la Mejorada\, Centro\,\, Mérida\, Yucatán\, 97000
END:VEVENT
BEGIN:VEVENT
DTSTART;TZID=UTC:20260307T190000
DTEND;TZID=UTC:20260307T220000
DTSTAMP:20260421T141445
CREATED:20260306T003544Z
LAST-MODIFIED:20260306T003544Z
UID:22399-1772910000-1772920800@boleromx.org
SUMMARY:La caravana del amor
DESCRIPTION:Estela Nuñez\, Jorge Muñiz\, Manoella Torres\, Carlos Cuevas\, Rocio Banquells\, y la Sonora Santanera de Carlos Colorado y María Fernanda
URL:https://boleromx.org/evento/la-caravana-del-amor/
LOCATION:Auditorio Nacional\, Avenida Paseo de la Reforma 50\, Polanco\, V Sección\, Alcaldía Miguel Hidalgo\, Ciudad de México\, 11560
END:VEVENT
BEGIN:VEVENT
DTSTART;TZID=UTC:20260308T170000
DTEND;TZID=UTC:20260308T220000
DTSTAMP:20260421T141445
CREATED:20260227T002311Z
LAST-MODIFIED:20260306T003843Z
UID:22347-1772989200-1773007200@boleromx.org
SUMMARY:Los Panchos en La Maraka
DESCRIPTION:🎶✨ Acompáñanos en una velada llena de nostalgia\, romance y alegría junto al legendario Trío Los Panchos. ✨🎶 ❤️ Revive los boleros más entrañables. \n¡Ven y brindemos juntos por las historias que nunca pasan de moda! 🥂🌟 ¡No te lo pierdas! \nACCESO: 5:00 pm\nSHOW:6:30 pm \nBoletos: \nVIP $850 MXN\nVIP PA $700 MXN\nPREFERENTE $700 MXN\nGENERAL $600 MXN\nVISTA PARCIAL $600 MXN \n* Este evento es para mayores de edad.
URL:https://boleromx.org/evento/los-panchos-en-la-maraka/
LOCATION:La Maraka
END:VEVENT
BEGIN:VEVENT
DTSTART;TZID=UTC:20260313T190000
DTEND;TZID=UTC:20260313T200000
DTSTAMP:20260421T141445
CREATED:20260306T004130Z
LAST-MODIFIED:20260306T004204Z
UID:22404-1773428400-1773432000@boleromx.org
SUMMARY:Candlelight El Cantoral- Cuarteto Lirio
DESCRIPTION:⭐ Candlelight son los conciertos a la luz de las velas que traen la magia de una experiencia musical y multisensorial en vivo a lugares increíbles en Ciudad de México – CDMX. Compra ya tus boletos para descubrir la música de Boleros Inolvidables en El Cantoral bajo la tenue luz de las velas \n🪑 Los asientos se asignarán según orden de llegada por cada zona. \nInformación\n📍 Lugar: El Cantoral\, Ciudad de México – CDMX\n📅 Fecha y hora: selecciona la fecha y hora que quieras directamente en el selector de boletos\n⏳ Duración del concierto: 60 minutos aprox. (apertura de puertas 45 minutos antes\, no podrás acceder una vez iniciado el concierto)\n👤 Edad: a partir de 8 años. Los menores de 16 años deberán acudir acompañados por un adulto\n♿ Accesibilidad: recinto habilitado para personas en silla de ruedas\n❓ Puedes consultar las preguntas frecuentes y sus respuestas aquí\n🕯️ Si quieres reservar un concierto privado o comprar boletos para un grupo grande (+30 personas)\, haz clic aquí\n🎻 Consulta todos los conciertos Candlelight en Ciudad de México – CDMX\n🎁 Consigue una tarjeta regalo para tus amigos y familia aquí \nPrograma tentativo \n\nBésame Mucho – Consuelo Velázquez\nSabor a Mí – Álvaro Carrillo\nPerfidia – Alberto Domínguez Borrás\nAmorcito Corazón – Manuel Esperón\nLa Media Vuelta – José Alfredo Jiménez\nQuizás\, Quizás\, Quizás – Osvaldo Farrés\nReloj – Roberto Cantoral\nSolamente Una Vez – Agustín Lara\nNoche de Ronda – Agustín Lara\nCien Años – Rubén Fuentes\nLa Barca – Roberto Cantoral\nSomos Novios – Armando Manzanero\nContigo Aprendí – Armando Manzanero\nNo Sé Tú – Armando Manzanero\nEsta Tarde Vi Llover – Armando Manzanero\n\nIntérpretes \n\n– Cuarteto Lirio
URL:https://boleromx.org/evento/candlelight-el-cantoral-cuarteto-lirio/
LOCATION:El Cantoral\, Puente Xoco s/n-Puerta A\, Xoco Puente Xoco s/n-Puerta A\, Xoco\, Benito Juárez\, Ciudad de México\, Ciudad de México\, 03330
END:VEVENT
BEGIN:VEVENT
DTSTART;TZID=UTC:20260320T213000
DTEND;TZID=UTC:20260320T230000
DTSTAMP:20260421T141445
CREATED:20260306T004549Z
LAST-MODIFIED:20260306T004618Z
UID:22409-1774042200-1774047600@boleromx.org
SUMMARY:Trío Los Pretendientes en D´ Maurice Piano Bar
DESCRIPTION:Trío Los Pretendientes\n20 de Marzo 9:30pm\nCover: $350\nBoletos al: 55 44 923442
URL:https://boleromx.org/evento/trio-los-pretendientes-en-dmaurice-piano-bar/
LOCATION:D’ Maurice Piano Bar\, Av. Insurgentes Sur 1869\, P.B. Guadalupe Inn\, Álvaro Obregón\, Ciudad de México\, Ciudad de México\, 01020\, Mexico
END:VEVENT
BEGIN:VEVENT
DTSTART;TZID=UTC:20260321T200000
DTEND;TZID=UTC:20260321T230000
DTSTAMP:20260421T141445
CREATED:20260306T005106Z
LAST-MODIFIED:20260306T005106Z
UID:22413-1774123200-1774134000@boleromx.org
SUMMARY:Salvador Rivera en la Cueva de Rodrigo de la Cadena
DESCRIPTION:21 Marzo \nLa Cueva De Rodrigo De La Cadena \n\n¡Te esperamos para vivir una noche única con Salvador Rivera! \nAv San Antonio 256\, Nonoalco\, Benito Juárez\, CDMX 🎟️ Entradas disponibles
URL:https://boleromx.org/evento/salvador-rivera-en-la-cueva-de-rodrigo-de-la-cadena/
LOCATION:La Cueva\, Avenida San Antonio 256\, Watteau 74b\, Nonoalco\, Benito Juárez\, Ciudad de México\, Ciudad de México\, 03700
END:VEVENT
BEGIN:VEVENT
DTSTART;TZID=UTC:20260322T190000
DTEND;TZID=UTC:20260322T220000
DTSTAMP:20260421T141445
CREATED:20260306T005605Z
LAST-MODIFIED:20260306T005605Z
UID:22416-1774206000-1774216800@boleromx.org
SUMMARY:Rafael Basurto y Mocedades\, si tu me dices ven\, España\, Murcia
DESCRIPTION:𝗟𝗮 𝗴𝗶𝗿𝗮 𝗶𝗻𝘁𝗲𝗿𝗻𝗮𝗰𝗶𝗼𝗻𝗮𝗹 𝗱𝗲 𝗠𝗼𝗰𝗲𝗱𝗮𝗱𝗲𝘀 𝘆 𝗹𝗼𝘀 𝗣𝗮𝗻𝗰𝗵𝗼𝘀 𝗹𝗹𝗲𝗴𝗮 𝗲𝘀𝘁𝗮 𝗽𝗿𝗶𝗺𝗮𝘃𝗲𝗿𝗮 𝟮𝟬𝟮𝟲 𝗮 𝗹𝗼𝘀 𝗲𝘀𝗰𝗲𝗻𝗮𝗿𝗶𝗼𝘀 𝗱𝗲𝗹 𝗧𝗲𝗮𝘁𝗿𝗼 𝗥𝗼𝗺𝗲𝗮 𝗱𝗲 𝗠𝘂𝗿𝗰𝗶𝗮 𝘆 𝗮𝗹 𝗔𝘂𝗱𝗶𝘁𝗼𝗿𝗶𝗼 𝗠𝗮𝗿𝗴𝗮𝗿𝗶𝘁𝗮 𝗹𝗼𝘇𝗮𝗻𝗼 𝗱𝗲 𝗟𝗼𝗿𝗰𝗮\n.\nTras el extraordinario éxito obtenido durante los años 2024 y 2025 en escenarios de todo el mundo\, Mocedades y Los Panchos\, representados por su última voz original\, el gran maestro Rafael Basurto Lara\, la Voz del Bolero en el mundo\, regresan en 2026 con la segunda parte de su gira internacional “Si Tú Me Dices Ven”.\n.\nUn concierto entrañable\, nostálgico y vibrante\, donde dos leyendas vivas de la música en español se unen para rendir homenaje a las canciones que han marcado generaciones. Mocedades\, con su inconfundible sello vocal\, revive himnos que forman parte del alma colectiva como “Eres tú”\, “La otra España”\, “Tómame o déjame” y “Amor de hombre”\, junto con nuevas composiciones incluidas en sus más recientes lanzamientos discográficos.\n.\nPor su parte\, el maestro Rafael Basurto Lara\, última voz del trío más famoso de todos los tiempos\, nos sumerge en la magia del bolero eterno con joyas inmortales de Los Panchos: “Si tú me dices ven”\, “Contigo”\, “Rayito de luna”\, “Lo dudo”\, entre muchas otras melodías que siguen latiendo en el corazón del público.\n.\nUn encuentro único entre dos crónicas de la música latina\, dos estilos que se entrelazan en el escenario con elegancia\, sentimiento y una profunda conexión con la memoria musical de Iberoamérica. Una gira para emocionarse\, cantar\, recordar… y volver a creer en el poder del amor hecho canción.\n.\n Teatro Romea de Murcia\n Domingo\, 22 de marzo\n 19:00 horas\n Entradas – https://teatroromea.compralaentrada.com/…/mocedades-los…\n.\n Auditorio Margarita Lozano de Lorca\n Sábado\, 18 de abril\n 20:00 horas\n Entradas – https://www.bacantix.com/Ent…/WebForms/Forms/Venta.aspx…
URL:https://boleromx.org/evento/rafael-basurto-y-mocedades-si-tu-me-dices-ven-espana-murcia/
LOCATION:Teatro Romea de Murcia\, Pl. Julián Romea\, s/n\, Murcia\, Murcia\, 30001\, Spain
END:VEVENT
BEGIN:VEVENT
DTSTART;TZID=UTC:20260326T200000
DTEND;TZID=UTC:20260326T220000
DTSTAMP:20260421T141445
CREATED:20260306T005843Z
LAST-MODIFIED:20260306T005843Z
UID:22419-1774555200-1774562400@boleromx.org
SUMMARY:Xochibolero Rodrigo de la Cadena en la Cueva
DESCRIPTION:Xochibolero Rodrigo de la Cadena en la Cueva
URL:https://boleromx.org/evento/xochibolero-rodrigo-de-la-cadena-en-la-cueva/
LOCATION:Ciudad de Mexico
END:VEVENT
BEGIN:VEVENT
DTSTART;TZID=UTC:20260328T200000
DTEND;TZID=UTC:20260328T220000
DTSTAMP:20260421T141445
CREATED:20260306T010135Z
LAST-MODIFIED:20260306T010258Z
UID:22421-1774728000-1774735200@boleromx.org
SUMMARY:5a edición de Noche de Boleros en Teatro Morelos\, Aguascalientes
DESCRIPTION:ÁBADO 28 MARZO TEATRO MORELOS 2026 / 20H / $250 \nArtistas invitados: \n\n\nLore Leos \n\n\nRosy Hernández \n\n\nLiliana Vargas \n\n\nBlanca Luna \n\n\nBonny \n\n\nJosé Valdepeña (Baritenor) \n\n\nDirección musical: Alberto Martín del Campo Percusión: Juan Satiri Maestro de ceremonias: Luis Arturo Malacara \nHomenaje al Maestro Óscar Malo Flores por sus 60 años de trayectoria musical Actuación especial de La Tuna Aguascalentense \nVenta de boletos: En taquilla del teatro\, los días viernes 27 y sábado 28 de 4:00 a 8:00 pm. Preventa e informes al: Tel. 449 169 23 64 Facebook: Bonny y Beto
URL:https://boleromx.org/evento/5a-edicion-de-noche-de-boleros-en-teatro-morelos-aguascalientes/
LOCATION:Teatro Morelos\, Nieto 113\, Zona Centro\, 20000\, Aguascalientes\, Aguascalientes\, 2000\, Mexico
END:VEVENT
END:VCALENDAR